View In:
Google Earth
ArcGIS JavaScript
View Footprint In:
Google Earth
Service Description: A Normalized Difference Vegetation Index (NDVI) was applied to the source NAIP 2010 imagery. NDVI=(NearIR-Red)/(NearIR+Red). The color ramp (produced by ESRI) goes from brown (less healthy vegetation) to red to green (healthier vegetation or more "greenness").
Name: MOSOM1/Base_Remote_Sensing/NAIP_2010_NDVI
Description: A Normalized Difference Vegetation Index (NDVI) was applied to the source NAIP 2010 imagery. NDVI=(NearIR-Red)/(NearIR+Red). The color ramp (produced by ESRI) goes from brown (less healthy vegetation) to red to green (healthier vegetation or more "greenness").
Extent:
XMin: -13852876.8487778
YMin: 3828749.84042168
XMax: -12703716.2081394
YMax: 5170873.52176857
Spatial Reference: 102100
Pixel Size X: 1
Pixel Size Y: 1
Band Count: 3
Pixel Type: U8
Min Pixel Size: 0
Max Pixel Size: 0
Copyright Text:
Service Data Type: esriImageServiceDataTypeRGB
Min Values:
Max Values:
Standard Deviation Values:
Supported Interfaces:
REST
SOAP
WMS
Supported Operations:
Export Image